BEGIN:VCALENDAR
VERSION:2.0
PRODID:-//Scatterjazz - ECPv6.15.18//NONSGML v1.0//EN
CALSCALE:GREGORIAN
METHOD:PUBLISH
X-ORIGINAL-URL:https://www.scatterjazz.com
X-WR-CALDESC:Events for Scatterjazz
REFRESH-INTERVAL;VALUE=DURATION:PT1H
X-Robots-Tag:noindex
X-PUBLISHED-TTL:PT1H
BEGIN:VTIMEZONE
TZID:America/Chicago
BEGIN:DAYLIGHT
TZOFFSETFROM:-0600
TZOFFSETTO:-0500
TZNAME:CDT
DTSTART:20240310T080000
END:DAYLIGHT
BEGIN:STANDARD
TZOFFSETFROM:-0500
TZOFFSETTO:-0600
TZNAME:CST
DTSTART:20241103T070000
END:STANDARD
BEGIN:DAYLIGHT
TZOFFSETFROM:-0600
TZOFFSETTO:-0500
TZNAME:CDT
DTSTART:20250309T080000
END:DAYLIGHT
BEGIN:STANDARD
TZOFFSETFROM:-0500
TZOFFSETTO:-0600
TZNAME:CST
DTSTART:20251102T070000
END:STANDARD
BEGIN:DAYLIGHT
TZOFFSETFROM:-0600
TZOFFSETTO:-0500
TZNAME:CDT
DTSTART:20260308T080000
END:DAYLIGHT
BEGIN:STANDARD
TZOFFSETFROM:-0500
TZOFFSETTO:-0600
TZNAME:CST
DTSTART:20261101T070000
END:STANDARD
END:VTIMEZONE
BEGIN:VEVENT
DTSTART;TZID=America/Chicago:20250407T200000
DTEND;TZID=America/Chicago:20250407T223000
DTSTAMP:20260423T063608
CREATED:20250404T160439Z
LAST-MODIFIED:20250528T002351Z
UID:1136-1744056000-1744065000@www.scatterjazz.com
SUMMARY:Jamie Baum\, Monika Herzig\, & Helen Gillet
DESCRIPTION:Join us at Zeitgeist for a Scatterjazz presented sound sculpture from these 3 master improvisors!
URL:https://www.scatterjazz.com/event/jamie-baum-monika-herzig-helen-gillet/
LOCATION:Zeitgeist Theatre & Lounge\, ​6621 St Claude Ave\, Arabi\, LA\, 70032\, United States
CATEGORIES:Past Events
END:VEVENT
END:VCALENDAR