BEGIN:VCALENDAR
VERSION:2.0
PRODID:-//Scatterjazz - ECPv6.15.18//NONSGML v1.0//EN
CALSCALE:GREGORIAN
METHOD:PUBLISH
X-ORIGINAL-URL:https://www.scatterjazz.com
X-WR-CALDESC:Events for Scatterjazz
REFRESH-INTERVAL;VALUE=DURATION:PT1H
X-Robots-Tag:noindex
X-PUBLISHED-TTL:PT1H
BEGIN:VTIMEZONE
TZID:America/Chicago
BEGIN:DAYLIGHT
TZOFFSETFROM:-0600
TZOFFSETTO:-0500
TZNAME:CDT
DTSTART:20230312T080000
END:DAYLIGHT
BEGIN:STANDARD
TZOFFSETFROM:-0500
TZOFFSETTO:-0600
TZNAME:CST
DTSTART:20231105T070000
END:STANDARD
BEGIN:DAYLIGHT
TZOFFSETFROM:-0600
TZOFFSETTO:-0500
TZNAME:CDT
DTSTART:20240310T080000
END:DAYLIGHT
BEGIN:STANDARD
TZOFFSETFROM:-0500
TZOFFSETTO:-0600
TZNAME:CST
DTSTART:20241103T070000
END:STANDARD
BEGIN:DAYLIGHT
TZOFFSETFROM:-0600
TZOFFSETTO:-0500
TZNAME:CDT
DTSTART:20250309T080000
END:DAYLIGHT
BEGIN:STANDARD
TZOFFSETFROM:-0500
TZOFFSETTO:-0600
TZNAME:CST
DTSTART:20251102T070000
END:STANDARD
END:VTIMEZONE
BEGIN:VEVENT
DTSTART;TZID=America/Chicago:20241102T190000
DTEND;TZID=America/Chicago:20241102T220000
DTSTAMP:20260421T040536
CREATED:20240822T211414Z
LAST-MODIFIED:20250404T153537Z
UID:1128-1730574000-1730584800@www.scatterjazz.com
SUMMARY:Phil Minton's 84th Birthday Concert Feat. Helen Gillet + Audrey Chen's Beam Splitter
DESCRIPTION:Please join us in celebration of Phil Minton’s 84th birthday! The evening will feature Helen Gillet\, Cliff Hines\, and Audrey Chen + more so buckle up!
URL:https://www.scatterjazz.com/event/phil-mintons-84th-birthday-concert-feat-helen-gillet-audrey-chens-beam-splitter/
LOCATION:Zeitgeist Theatre & Lounge\, ​6621 St Claude Ave\, Arabi\, LA\, 70032\, United States
CATEGORIES:Past Events
END:VEVENT
END:VCALENDAR