BEGIN:VCALENDAR
VERSION:2.0
PRODID:-//Scatterjazz - ECPv6.15.18//NONSGML v1.0//EN
CALSCALE:GREGORIAN
METHOD:PUBLISH
X-ORIGINAL-URL:https://www.scatterjazz.com
X-WR-CALDESC:Events for Scatterjazz
REFRESH-INTERVAL;VALUE=DURATION:PT1H
X-Robots-Tag:noindex
X-PUBLISHED-TTL:PT1H
BEGIN:VTIMEZONE
TZID:America/Chicago
BEGIN:DAYLIGHT
TZOFFSETFROM:-0600
TZOFFSETTO:-0500
TZNAME:CDT
DTSTART:20230312T080000
END:DAYLIGHT
BEGIN:STANDARD
TZOFFSETFROM:-0500
TZOFFSETTO:-0600
TZNAME:CST
DTSTART:20231105T070000
END:STANDARD
BEGIN:DAYLIGHT
TZOFFSETFROM:-0600
TZOFFSETTO:-0500
TZNAME:CDT
DTSTART:20240310T080000
END:DAYLIGHT
BEGIN:STANDARD
TZOFFSETFROM:-0500
TZOFFSETTO:-0600
TZNAME:CST
DTSTART:20241103T070000
END:STANDARD
BEGIN:DAYLIGHT
TZOFFSETFROM:-0600
TZOFFSETTO:-0500
TZNAME:CDT
DTSTART:20250309T080000
END:DAYLIGHT
BEGIN:STANDARD
TZOFFSETFROM:-0500
TZOFFSETTO:-0600
TZNAME:CST
DTSTART:20251102T070000
END:STANDARD
END:VTIMEZONE
BEGIN:VEVENT
DTSTART;TZID=America/Chicago:20240316T190000
DTEND;TZID=America/Chicago:20240316T220000
DTSTAMP:20260423T034718
CREATED:20240202T221731Z
LAST-MODIFIED:20240322T184054Z
UID:1101-1710615600-1710626400@www.scatterjazz.com
SUMMARY:Trio Glossia
DESCRIPTION:Please join us at the Happyland Theater for an evening with Trio Glossia featuring Stefan Gonzalez. Local support set TBA!
URL:https://www.scatterjazz.com/event/trio-glossia/
LOCATION:Happyland Theater\, 3126 Burgundy St\, New Orleans\, LA\, 70117\, United States
CATEGORIES:Past Events
END:VEVENT
BEGIN:VEVENT
DTSTART;TZID=America/Chicago:20240321T190000
DTEND;TZID=America/Chicago:20240321T220000
DTSTAMP:20260423T034718
CREATED:20240322T184406Z
LAST-MODIFIED:20240322T184406Z
UID:1109-1711047600-1711058400@www.scatterjazz.com
SUMMARY:Quin Kirchner w/Rex Gregory\, Jimbo Walsh\, and Anthony Cuccia
DESCRIPTION:Please join us at Zeitgest for an evening with Quin Kirchner – featuring Rex Gregory\, Jimbo Walsh\, and Anthony Cuccia!
URL:https://www.scatterjazz.com/event/quin-kirchner-w-rex-gregory-jimbo-walsh-and-anthony-cuccia/
LOCATION:Zeitgeist Theatre & Lounge\, ​6621 St Claude Ave\, Arabi\, LA\, 70032\, United States
CATEGORIES:Past Events
END:VEVENT
BEGIN:VEVENT
DTSTART;TZID=America/Chicago:20240331T190000
DTEND;TZID=America/Chicago:20240331T220000
DTSTAMP:20260423T034718
CREATED:20240322T183730Z
LAST-MODIFIED:20240419T175339Z
UID:1105-1711911600-1711922400@www.scatterjazz.com
SUMMARY:Tactical Maybe
DESCRIPTION:Please join us at the Happyland Theater for Tactical Maybe – featuring Tom Blancarte from Denmark plus Charles Pagano\, Klaus Hubner\, and Rob Wagner Trio!
URL:https://www.scatterjazz.com/event/tactical-maybe/
LOCATION:Happyland Theater\, 3126 Burgundy St\, New Orleans\, LA\, 70117\, United States
CATEGORIES:Past Events
END:VEVENT
END:VCALENDAR