BEGIN:VCALENDAR
VERSION:2.0
PRODID:-//Scatterjazz - ECPv6.15.18//NONSGML v1.0//EN
CALSCALE:GREGORIAN
METHOD:PUBLISH
X-ORIGINAL-URL:https://www.scatterjazz.com
X-WR-CALDESC:Events for Scatterjazz
REFRESH-INTERVAL;VALUE=DURATION:PT1H
X-Robots-Tag:noindex
X-PUBLISHED-TTL:PT1H
BEGIN:VTIMEZONE
TZID:America/Chicago
BEGIN:DAYLIGHT
TZOFFSETFROM:-0600
TZOFFSETTO:-0500
TZNAME:CDT
DTSTART:20240310T080000
END:DAYLIGHT
BEGIN:STANDARD
TZOFFSETFROM:-0500
TZOFFSETTO:-0600
TZNAME:CST
DTSTART:20241103T070000
END:STANDARD
BEGIN:DAYLIGHT
TZOFFSETFROM:-0600
TZOFFSETTO:-0500
TZNAME:CDT
DTSTART:20250309T080000
END:DAYLIGHT
BEGIN:STANDARD
TZOFFSETFROM:-0500
TZOFFSETTO:-0600
TZNAME:CST
DTSTART:20251102T070000
END:STANDARD
BEGIN:DAYLIGHT
TZOFFSETFROM:-0600
TZOFFSETTO:-0500
TZNAME:CDT
DTSTART:20260308T080000
END:DAYLIGHT
BEGIN:STANDARD
TZOFFSETFROM:-0500
TZOFFSETTO:-0600
TZNAME:CST
DTSTART:20261101T070000
END:STANDARD
END:VTIMEZONE
BEGIN:VEVENT
DTSTART;TZID=America/Chicago:20250603T193000
DTEND;TZID=America/Chicago:20250603T223000
DTSTAMP:20260423T120330
CREATED:20250528T002802Z
LAST-MODIFIED:20250630T132917Z
UID:1139-1748979000-1748989800@www.scatterjazz.com
SUMMARY:Two Trios: Feat. Thomas Helton + Aurora Nealand + Chris Alford + Mahmoud Chouki + David Buchbinder
DESCRIPTION:Join us at the Broadside for an evening featuring these all star improvisors in various combinations!
URL:https://www.scatterjazz.com/event/two-trios-feat-thomas-helton-aurora-nealand-chris-alford-mahmoud-chouki-david-buchbinder/
LOCATION:Broadside\, 600 North Broad Street\, New Orleans\, LA\, 70119
CATEGORIES:Past Events
END:VEVENT
END:VCALENDAR