BEGIN:VCALENDAR
VERSION:2.0
PRODID:-//Scatterjazz - ECPv6.15.18//NONSGML v1.0//EN
CALSCALE:GREGORIAN
METHOD:PUBLISH
X-ORIGINAL-URL:https://www.scatterjazz.com
X-WR-CALDESC:Events for Scatterjazz
REFRESH-INTERVAL;VALUE=DURATION:PT1H
X-Robots-Tag:noindex
X-PUBLISHED-TTL:PT1H
BEGIN:VTIMEZONE
TZID:America/Chicago
BEGIN:DAYLIGHT
TZOFFSETFROM:-0600
TZOFFSETTO:-0500
TZNAME:CDT
DTSTART:20230312T080000
END:DAYLIGHT
BEGIN:STANDARD
TZOFFSETFROM:-0500
TZOFFSETTO:-0600
TZNAME:CST
DTSTART:20231105T070000
END:STANDARD
BEGIN:DAYLIGHT
TZOFFSETFROM:-0600
TZOFFSETTO:-0500
TZNAME:CDT
DTSTART:20240310T080000
END:DAYLIGHT
BEGIN:STANDARD
TZOFFSETFROM:-0500
TZOFFSETTO:-0600
TZNAME:CST
DTSTART:20241103T070000
END:STANDARD
BEGIN:DAYLIGHT
TZOFFSETFROM:-0600
TZOFFSETTO:-0500
TZNAME:CDT
DTSTART:20250309T080000
END:DAYLIGHT
BEGIN:STANDARD
TZOFFSETFROM:-0500
TZOFFSETTO:-0600
TZNAME:CST
DTSTART:20251102T070000
END:STANDARD
END:VTIMEZONE
BEGIN:VEVENT
DTSTART;TZID=America/Chicago:20240423T190000
DTEND;TZID=America/Chicago:20240423T210000
DTSTAMP:20260421T122352
CREATED:20240419T174525Z
LAST-MODIFIED:20240429T155043Z
UID:1112-1713898800-1713906000@www.scatterjazz.com
SUMMARY:Devin Gray\, Brian Haas\, Alex Massa & Dan Oestreicher
DESCRIPTION:Please join us at Zeitgeist for an improvisational evening featuring Devin Gray\, Brian Haas\, Alex Massa\, and Dan Oestricher!
URL:https://www.scatterjazz.com/event/devin-gray-brian-haas-alex-massa-dan-oestreicher/
LOCATION:Zeitgeist Theatre & Lounge\, ​6621 St Claude Ave\, Arabi\, LA\, 70032\, United States
CATEGORIES:Past Events
END:VEVENT
END:VCALENDAR