BEGIN:VCALENDAR
VERSION:2.0
PRODID:-//Scatterjazz - ECPv6.15.18//NONSGML v1.0//EN
CALSCALE:GREGORIAN
METHOD:PUBLISH
X-ORIGINAL-URL:https://www.scatterjazz.com
X-WR-CALDESC:Events for Scatterjazz
REFRESH-INTERVAL;VALUE=DURATION:PT1H
X-Robots-Tag:noindex
X-PUBLISHED-TTL:PT1H
BEGIN:VTIMEZONE
TZID:America/Chicago
BEGIN:DAYLIGHT
TZOFFSETFROM:-0600
TZOFFSETTO:-0500
TZNAME:CDT
DTSTART:20230312T080000
END:DAYLIGHT
BEGIN:STANDARD
TZOFFSETFROM:-0500
TZOFFSETTO:-0600
TZNAME:CST
DTSTART:20231105T070000
END:STANDARD
BEGIN:DAYLIGHT
TZOFFSETFROM:-0600
TZOFFSETTO:-0500
TZNAME:CDT
DTSTART:20240310T080000
END:DAYLIGHT
BEGIN:STANDARD
TZOFFSETFROM:-0500
TZOFFSETTO:-0600
TZNAME:CST
DTSTART:20241103T070000
END:STANDARD
BEGIN:DAYLIGHT
TZOFFSETFROM:-0600
TZOFFSETTO:-0500
TZNAME:CDT
DTSTART:20250309T080000
END:DAYLIGHT
BEGIN:STANDARD
TZOFFSETFROM:-0500
TZOFFSETTO:-0600
TZNAME:CST
DTSTART:20251102T070000
END:STANDARD
END:VTIMEZONE
BEGIN:VEVENT
DTSTART;TZID=America/Chicago:20240220T193000
DTEND;TZID=America/Chicago:20240220T220000
DTSTAMP:20260423T063455
CREATED:20240202T221531Z
LAST-MODIFIED:20240322T184101Z
UID:1099-1708457400-1708466400@www.scatterjazz.com
SUMMARY:Byron Asher Super Double Bill
DESCRIPTION:Please join us at the Broadside’s indoor space for a Byron Asher double header! The evening begins with an opening set by Fluttermite featuring Asher\, Helen Gillet\, and Daniel Meinecke. \nNext up is the Byron Asher Quartet with Tomas Majcherski\, Matt Booth\, and Doug Garrison.
URL:https://www.scatterjazz.com/event/byron-asher-super-double-bill/
LOCATION:Broadside\, 600 North Broad Street\, New Orleans\, LA\, 70119
CATEGORIES:Past Events
END:VEVENT
END:VCALENDAR